BEGIN:VCALENDAR
VERSION:2.0
PRODID:-//Black Mental Health Canada - ECPv6.15.20//NONSGML v1.0//EN
CALSCALE:GREGORIAN
METHOD:PUBLISH
X-ORIGINAL-URL:https://blackmentalhealth.ca
X-WR-CALDESC:Events for Black Mental Health Canada
REFRESH-INTERVAL;VALUE=DURATION:PT1H
X-Robots-Tag:noindex
X-PUBLISHED-TTL:PT1H
BEGIN:VTIMEZONE
TZID:UTC
BEGIN:STANDARD
TZOFFSETFROM:+0000
TZOFFSETTO:+0000
TZNAME:UTC
DTSTART:20230101T000000
END:STANDARD
END:VTIMEZONE
BEGIN:VEVENT
DTSTART;VALUE=DATE:20240221
DTEND;VALUE=DATE:20240222
DTSTAMP:20260420T042312
CREATED:20240124T214712Z
LAST-MODIFIED:20240124T215246Z
UID:6542-1708473600-1708559999@blackmentalhealth.ca
SUMMARY:Experience Black History Month with Plantain Percy - "Mental Well-Being Meets Modern African Dance"
DESCRIPTION:What to Expect.\nDescription: \nThis event seeks to expand the ways in which we think about our well-being. The role of modern African dance serves as a conduit for mental well-being. A vibrant and ever-evolving aspect of the African diaspora’s cultural heritage\, that continues to inspire and influence the globe. Music and dancing are an integral aspect of many African diasporan societies. In which they facilitate teaching and promoting; social and moral values\, connection with spirit/soul and body\, as well as celebrating life. \nObjectives to: \nEnhance mental well-being\, foster community\, and improve self-esteem by incorporating modern African dance into wellness programs. \nOffer engaging modern African dance fitness classes tailored to corporate environments\, providing a unique and enjoyable approach to promoting mental well-being. \n  \nServices (Lunch & Learn)\nOn-site Dance Classes \n-Tailored classes for all fitness levels. \n-Engaging afrobeat dance fitness exploring the rhythms and vibrant movement. \n-Basic dance moves to take home and practice for all party\, and music festival needs. \n-Fun filled hour of modern African dance\, implementing history and promoting wellness \n-Duration 45mins to 1 hour \n  \nVirtual Dance Classes \n-Live and on-demand virtual classes for remote teams. \n-Accessible and engaging content. \n-Tailored classes for all fitness levels. \n-Engaging afrobeat dance fitness exploring the rhythms and vibrant movement \n-Basic dance moves to take home and practice for all party\, and music festival needs. \n-Duration 45mins to 1 hour \n  \nOperations\n  \nClass Logistics: \n-Dance instructors with expertise in modern African dance styles. \n-Flexible scheduling to accommodate different corporate environments. \n  \nTechnology Integration: \n-User-friendly platform for virtual classes. \n-Tracking and reporting tools for employee engagement and progress. \n  \nPartnerships: Be one of the first corporations to partner with us and build a strong community and presence. \nReferral Program: Encourage customers to refer friends and family. \n  \nFor more information or if you’d like to express your interest\, please email us at info@blackmentalhealth.ca!
URL:https://blackmentalhealth.ca/event/experience-black-history-month-with-plantain-percy-mental-well-being-meets-modern-african-dance-3/
LOCATION:Virtual\, Canada
CATEGORIES:Class, Training, or Workshop
ATTACH;FMTTYPE=image/jpeg:https://blackmentalhealth.ca/wp-content/uploads/2024/01/african-dancing-feet.jpg
END:VEVENT
END:VCALENDAR